BEGIN:VCALENDAR
VERSION:2.0
PRODID:-//CDU-Kreisverband Altona/Elbvororte - ECPv6.15.11//NONSGML v1.0//EN
CALSCALE:GREGORIAN
METHOD:PUBLISH
X-WR-CALNAME:CDU-Kreisverband Altona/Elbvororte
X-ORIGINAL-URL:https://cdualtona.de
X-WR-CALDESC:Veranstaltungen für CDU-Kreisverband Altona/Elbvororte
REFRESH-INTERVAL;VALUE=DURATION:PT1H
X-Robots-Tag:noindex
X-PUBLISHED-TTL:PT1H
BEGIN:VTIMEZONE
TZID:Europe/Berlin
BEGIN:DAYLIGHT
TZOFFSETFROM:+0100
TZOFFSETTO:+0200
TZNAME:CEST
DTSTART:20220327T010000
END:DAYLIGHT
BEGIN:STANDARD
TZOFFSETFROM:+0200
TZOFFSETTO:+0100
TZNAME:CET
DTSTART:20221030T010000
END:STANDARD
BEGIN:DAYLIGHT
TZOFFSETFROM:+0100
TZOFFSETTO:+0200
TZNAME:CEST
DTSTART:20230326T010000
END:DAYLIGHT
BEGIN:STANDARD
TZOFFSETFROM:+0200
TZOFFSETTO:+0100
TZNAME:CET
DTSTART:20231029T010000
END:STANDARD
BEGIN:DAYLIGHT
TZOFFSETFROM:+0100
TZOFFSETTO:+0200
TZNAME:CEST
DTSTART:20240331T010000
END:DAYLIGHT
BEGIN:STANDARD
TZOFFSETFROM:+0200
TZOFFSETTO:+0100
TZNAME:CET
DTSTART:20241027T010000
END:STANDARD
END:VTIMEZONE
BEGIN:VEVENT
DTSTART;TZID=Europe/Berlin:20230531T190000
DTEND;TZID=Europe/Berlin:20230531T210000
DTSTAMP:20260422T143716
CREATED:20230502T144748Z
LAST-MODIFIED:20230502T160040Z
UID:10000090-1685559600-1685566800@cdualtona.de
SUMMARY:Sven Hielscher & Tim Schmuckall: Wie gut läuft es in Altona?
DESCRIPTION:Bewohnerparken – Baustellen – Bürokratie \nUnser Fraktionsvorsitzender Sven Hielscher und der verkehrspolitischer Sprecher der Fraktion Tim Schmuckall laden interessierte Bürgerinnen und Bürger ins „The Don A Roma“ in Blankenese ein\, um mit ihnen über bezirkspolitische Themen zu diskutieren.
URL:https://cdualtona.de/termin/sven-hielscher-tim-schmuckall-wie-gut-laeuft-es-in-altona/
LOCATION:The Don A Roma\, Erik-Blumenfeld-Platz 27b\, Hamburg\, 22587
ATTACH;FMTTYPE=image/png:https://cdualtona.de/wp-content/uploads/2023/05/plakat_Hielscher.png
END:VEVENT
END:VCALENDAR