BEGIN:VCALENDAR
VERSION:2.0
PRODID:-//CDU-Kreisverband Altona/Elbvororte - ECPv6.15.11//NONSGML v1.0//EN
CALSCALE:GREGORIAN
METHOD:PUBLISH
X-ORIGINAL-URL:https://cdualtona.de
X-WR-CALDESC:Veranstaltungen für CDU-Kreisverband Altona/Elbvororte
REFRESH-INTERVAL;VALUE=DURATION:PT1H
X-Robots-Tag:noindex
X-PUBLISHED-TTL:PT1H
BEGIN:VTIMEZONE
TZID:Europe/Berlin
BEGIN:DAYLIGHT
TZOFFSETFROM:+0100
TZOFFSETTO:+0200
TZNAME:CEST
DTSTART:20240331T010000
END:DAYLIGHT
BEGIN:STANDARD
TZOFFSETFROM:+0200
TZOFFSETTO:+0100
TZNAME:CET
DTSTART:20241027T010000
END:STANDARD
BEGIN:DAYLIGHT
TZOFFSETFROM:+0100
TZOFFSETTO:+0200
TZNAME:CEST
DTSTART:20250330T010000
END:DAYLIGHT
BEGIN:STANDARD
TZOFFSETFROM:+0200
TZOFFSETTO:+0100
TZNAME:CET
DTSTART:20251026T010000
END:STANDARD
BEGIN:DAYLIGHT
TZOFFSETFROM:+0100
TZOFFSETTO:+0200
TZNAME:CEST
DTSTART:20260329T010000
END:DAYLIGHT
BEGIN:STANDARD
TZOFFSETFROM:+0200
TZOFFSETTO:+0100
TZNAME:CET
DTSTART:20261025T010000
END:STANDARD
END:VTIMEZONE
BEGIN:VEVENT
DTSTART;TZID=Europe/Berlin:20250513T183000
DTEND;TZID=Europe/Berlin:20250513T183000
DTSTAMP:20260421T183450
CREATED:20250506T121548Z
LAST-MODIFIED:20250506T122109Z
UID:10000186-1747161000-1747161000@cdualtona.de
SUMMARY:Kreismitgliederversammlung
DESCRIPTION:Wir bitten um Anmeldung bis zum 12.05.2025 per E-Mail an kreisverband@cdu-altonaelbvororte.de oder unter 0175-888 11 84.
URL:https://cdualtona.de/termin/kreismitgliederversammlung-2/
LOCATION:Gemeindesaal der ev.-luth. Kirchengemeinde St. Petri Altona\, Schmarjestraße 33/Ecke Schillerstraße\, Hamburg\, 22767
END:VEVENT
BEGIN:VEVENT
DTSTART;TZID=Europe/Berlin:20250519T000000
DTEND;TZID=Europe/Berlin:20250519T000000
DTSTAMP:20260421T183450
CREATED:20250506T122730Z
LAST-MODIFIED:20250506T135800Z
UID:10000187-1747612800-1747612800@cdualtona.de
SUMMARY:Abend für Neumitglieder
DESCRIPTION:Eine Einladung und nähere Informationen folgen in Kürze.
URL:https://cdualtona.de/termin/abend-fuer-neumitglieder/
END:VEVENT
END:VCALENDAR