BEGIN:VCALENDAR
VERSION:2.0
PRODID:-//CDU-Kreisverband Altona/Elbvororte - ECPv6.15.11//NONSGML v1.0//EN
CALSCALE:GREGORIAN
METHOD:PUBLISH
X-WR-CALNAME:CDU-Kreisverband Altona/Elbvororte
X-ORIGINAL-URL:https://cdualtona.de
X-WR-CALDESC:Veranstaltungen für CDU-Kreisverband Altona/Elbvororte
REFRESH-INTERVAL;VALUE=DURATION:PT1H
X-Robots-Tag:noindex
X-PUBLISHED-TTL:PT1H
BEGIN:VTIMEZONE
TZID:Europe/Berlin
BEGIN:DAYLIGHT
TZOFFSETFROM:+0100
TZOFFSETTO:+0200
TZNAME:CEST
DTSTART:20240331T010000
END:DAYLIGHT
BEGIN:STANDARD
TZOFFSETFROM:+0200
TZOFFSETTO:+0100
TZNAME:CET
DTSTART:20241027T010000
END:STANDARD
BEGIN:DAYLIGHT
TZOFFSETFROM:+0100
TZOFFSETTO:+0200
TZNAME:CEST
DTSTART:20250330T010000
END:DAYLIGHT
BEGIN:STANDARD
TZOFFSETFROM:+0200
TZOFFSETTO:+0100
TZNAME:CET
DTSTART:20251026T010000
END:STANDARD
BEGIN:DAYLIGHT
TZOFFSETFROM:+0100
TZOFFSETTO:+0200
TZNAME:CEST
DTSTART:20260329T010000
END:DAYLIGHT
BEGIN:STANDARD
TZOFFSETFROM:+0200
TZOFFSETTO:+0100
TZNAME:CET
DTSTART:20261025T010000
END:STANDARD
END:VTIMEZONE
BEGIN:VEVENT
DTSTART;TZID=Europe/Berlin:20250206T190000
DTEND;TZID=Europe/Berlin:20250206T190000
DTSTAMP:20260421T121401
CREATED:20250204T112910Z
LAST-MODIFIED:20250204T112917Z
UID:10000178-1738868400-1738868400@cdualtona.de
SUMMARY:Frauen Union: Dr. Kaja Steffens und Dr. Anke Frieling berichten über den aktuellen Doppelwahlkampf
DESCRIPTION:Dr. Kaja Steffens (CDU-Bundestagskandidatin im WK Hamburg-Altona) und Dr. Anke Frieling (CDU-Spitzenkandidatin für die Bürgerschaftswahl im WK Altona-West) werden über die aktuelle Wahlkampagne berichten. \nBitte bestätigen Sie Ihre Teilnahme bis zum 03.02.2025 per\nE-Mail: gabriele.von-stritzky@cdu-altona.de\ncc: nataschamoeller@email.de
URL:https://cdualtona.de/termin/frauen-union-dr-kaja-steffens-und-dr-anke-frieling-berichten-ueber-den-aktuellen-doppelwahlkampf/
LOCATION:CDU Altona\, Schmarjestraße 50\, Hamburg\, 22767
END:VEVENT
BEGIN:VEVENT
DTSTART;TZID=Europe/Berlin:20250212T180000
DTEND;TZID=Europe/Berlin:20250212T180000
DTSTAMP:20260421T121401
CREATED:20250204T111738Z
LAST-MODIFIED:20250204T112620Z
UID:10000177-1739383200-1739383200@cdualtona.de
SUMMARY:Der Pflegetalk - was jetzt angepackt werden muss.
DESCRIPTION:Dietrich Wersich\, Senator a. D. und Önder Zeybek\, Kandidat für die Hamburgische Bürgerschaft\, sprechen über notwendige Änderungen in der Pflege.
URL:https://cdualtona.de/termin/der-pflegetalk-was-jetzt-angepackt-werden-muss/
LOCATION:Galatasaray Hamburg e. V.\, Holstenstraße 157\, hamburg\, 22765
ATTACH;FMTTYPE=image/jpeg:https://cdualtona.de/wp-content/uploads/2025/02/oender.jpg
END:VEVENT
BEGIN:VEVENT
DTSTART;TZID=Europe/Berlin:20250213T190000
DTEND;TZID=Europe/Berlin:20250213T190000
DTSTAMP:20260421T121401
CREATED:20241219T143634Z
LAST-MODIFIED:20250129T170654Z
UID:10000169-1739473200-1739473200@cdualtona.de
SUMMARY:Hamburg vor zur Welt!
DESCRIPTION:Hamburg fällt in vielen Bereichen zurück\, während andere Städte und Metropolregionen prosperieren. Der Hafenumschlag ist gesunken und unsere Innovationskraft stagniert. Unsere Produktivität rangiert auf viel zu niedrigem Niveau. Die Bedeutung des Standorts hat in vielen Rankings stark abgenommen. Auch in puncto Lebensqualität rutschen wir ab. Die Folgen sind spürbar: Hamburgs Wohlstand steht auf dem Spiel. \nDie Initiative „Hamburg vor zur Welt“ fordert einen mutigen Schritt. Nach Sicht der Initiatioren steht Hamburg\, das Tor zur Welt\, an einem entscheidenden Wendepunkt. Der bisherige Erfolg reicht nicht mehr aus\, um Hamburgs Zukunft und seine kulturelle und soziale Freiheit dauerhaft zu sichern. Die Initiative sieht jetzt die Chance\, Hamburg als führendes Zentrum für Wissenschaft\, Innovation und Wirtschaft neu zu definieren. Sie möchte einen mutigen Neuanfang\, um Hamburg wieder Vor zur Welt zu bringen und als führende Metropole in Nordeuropa zu positionieren. \nWo Hamburg zur Zeit steht und was unternommen werden muss\, um Hamburgs Wohlstand langfristig zu sichern\, dazu wollen wir sprechen mit Dr. Nikolas Hill\, Staatsrat a. D und Thies Goldberg\, Vorsitzender des Hamburger Wirtschaftsrates. \nFreuen Sie sich auf einen inspirierenden Abend und kommen Sie ins Gespräch mit Dr. Nikolas Hill und Thies Goldberg.\nModeration: Antje Müller-Möller\, CDU Blankenese \n  \n 
URL:https://cdualtona.de/termin/hamburg-vor-zur-welt/
LOCATION:Alfred Schnittke Akademie International\, Max-Brauer Allee 24\, Hamburg\, 22765
ATTACH;FMTTYPE=image/jpeg:https://cdualtona.de/wp-content/uploads/2024/12/HamburgVorZurWelt.jpg
END:VEVENT
BEGIN:VEVENT
DTSTART;TZID=Europe/Berlin:20250214T190000
DTEND;TZID=Europe/Berlin:20250214T190000
DTSTAMP:20260421T121401
CREATED:20250205T070252Z
LAST-MODIFIED:20250210T115126Z
UID:10000179-1739559600-1739559600@cdualtona.de
SUMMARY:Für einen starken Norden - was jetzt zu tun ist!
DESCRIPTION:Veranstaltung mit Karin Prien\, Ministerin für Allgemeine und Berufliche Bildung\, Wissenschaft\, Forschung und Kultur des Landes Schleswig-Holstein\, Mitglied im Präsidium des Bundesvorstands
URL:https://cdualtona.de/termin/fuer-einen-starken-norden-was-jetzt-zu-tun-ist/
LOCATION:Haus Rissen\, Rissener Landstraße 193\, Hamburg\, 22559
ATTACH;FMTTYPE=image/png:https://cdualtona.de/wp-content/uploads/2025/02/2.2-min.png
END:VEVENT
BEGIN:VEVENT
DTSTART;TZID=Europe/Berlin:20250219T190000
DTEND;TZID=Europe/Berlin:20250219T190000
DTSTAMP:20260421T121401
CREATED:20250204T092446Z
LAST-MODIFIED:20250204T093902Z
UID:10000176-1739991600-1739991600@cdualtona.de
SUMMARY:Sicherheit in deutschen Großstädten
DESCRIPTION:Am 19.02.2025 veranstaltet die CDU Nienstedten in Zusammenarbeit mit der CDU Alsterdorf und der Jungen Union Altona mit den beiden Referenten Rainer Wendt (Präsident der Deutschen Polizeigewerkschaft) sowie Prof. Dr. Hans-Jürgen Papier (Präsident des Bundesverfassungsgerichts a.D.) eine Podiumsdiskussion zu verschiedenen Aspekten der Innen- als auch Migrationspolitik. Mit den beiden Experten wollen wir über die Zustände in deutschen Großstädten diskutieren\, aber auch über Wege um die Sicherheit wieder zu verbessern\, um nur ein paar Aspekte zu benennen. Bei Interesse an dieser Veranstaltung bitte vorher unter pierrekock@gmx.de anmelden. Eine Teilnahme kann nur nach vorheriger Anmeldung gewährleistet werden.
URL:https://cdualtona.de/termin/18838/
ATTACH;FMTTYPE=image/jpeg:https://cdualtona.de/wp-content/uploads/2025/02/paper.jpg
END:VEVENT
END:VCALENDAR