BEGIN:VCALENDAR
VERSION:2.0
PRODID:-//CDU-Kreisverband Altona/Elbvororte - ECPv6.15.11//NONSGML v1.0//EN
CALSCALE:GREGORIAN
METHOD:PUBLISH
X-ORIGINAL-URL:https://cdualtona.de
X-WR-CALDESC:Veranstaltungen für CDU-Kreisverband Altona/Elbvororte
REFRESH-INTERVAL;VALUE=DURATION:PT1H
X-Robots-Tag:noindex
X-PUBLISHED-TTL:PT1H
BEGIN:VTIMEZONE
TZID:Europe/Berlin
BEGIN:DAYLIGHT
TZOFFSETFROM:+0100
TZOFFSETTO:+0200
TZNAME:CEST
DTSTART:20230326T010000
END:DAYLIGHT
BEGIN:STANDARD
TZOFFSETFROM:+0200
TZOFFSETTO:+0100
TZNAME:CET
DTSTART:20231029T010000
END:STANDARD
BEGIN:DAYLIGHT
TZOFFSETFROM:+0100
TZOFFSETTO:+0200
TZNAME:CEST
DTSTART:20240331T010000
END:DAYLIGHT
BEGIN:STANDARD
TZOFFSETFROM:+0200
TZOFFSETTO:+0100
TZNAME:CET
DTSTART:20241027T010000
END:STANDARD
BEGIN:DAYLIGHT
TZOFFSETFROM:+0100
TZOFFSETTO:+0200
TZNAME:CEST
DTSTART:20250330T010000
END:DAYLIGHT
BEGIN:STANDARD
TZOFFSETFROM:+0200
TZOFFSETTO:+0100
TZNAME:CET
DTSTART:20251026T010000
END:STANDARD
END:VTIMEZONE
BEGIN:VEVENT
DTSTART;TZID=Europe/Berlin:20240717T190000
DTEND;TZID=Europe/Berlin:20240717T190000
DTSTAMP:20260422T124649
CREATED:20240712T161055Z
LAST-MODIFIED:20240712T161301Z
UID:10000144-1721242800-1721242800@cdualtona.de
SUMMARY:Visionen Altona/Elbvororte 2030
DESCRIPTION:Vielen Dank für das zahlreiche Erscheinen zu unseren bisherigen Veranstaltung „Visionen Altona/Elbvororte 2030+“. \nAm 17. Juli möchten wir ein „Visions-Arbeitstermin“ ansetzen\, mit dem Fokus Stadtentwicklung und Verkehr und gezielt an Projekten arbeiten. Wer zu diesem Thema  noch weitere Visionen hat\, soll zum Dr.* gehen 😉 bzw. mit Dr. Carsten Schmidt und/oder mir\, Serle (serle@gmx.de) vorab Kontakt aufnehmen. \nÜber Ihre/Deine Teilnahme am nächsten Treffen würden wir uns sehr freuen! \nBeste Grüße \nSerle \n*angelehnt an das Zitat „Wer Visionen hat\, soll zum Arzt gehen“ von Helmut Schmidt als Affront gegen den „Visionär Willy Brandt“ und Beginn einer m.E. visionslosen Politik der SPD\, wobei Schmidt später sagte\, er würde dieses Wort (Vision) heute nicht wiederholen\, siehe D. F. Sturm in der WELT: „Schmidt schwärmt vom „alten Gauner“ Strauß“ vom 28.08.2012. Mitveranstalter ist zudem Dr. Carsten Schmidt\, Stellv. Ortsvorsitzender CDU Nienstedten. \n  \n**Doppelte Definition Helmut Schmidts von Visionen – ebendort – Es geht und nicht um reine Wunschträume**\, sondern um real umsetzbare Konzepte**. \nLasst uns gemeinsam die Elbvororte weiter gestalten\, und für die Zukunft optimal aufzustellen und an den Ideen dieses Mal aus den Bereichen Stadtentwicklung\, Verkehr weiter gemeinsam arbeiten. Für Visionen und Impulse sind wir offen und dankbar. \n  \n 
URL:https://cdualtona.de/termin/visionen-altona-elbvororte-2030-2/
LOCATION:Tennisclub Vier Jahreszeiten\, Windmühlenweg 55\, Hamburg\, 22607\, Deutschland
END:VEVENT
BEGIN:VEVENT
DTSTART;TZID=Europe/Berlin:20240718T190000
DTEND;TZID=Europe/Berlin:20240718T203000
DTSTAMP:20260422T124649
CREATED:20240712T143139Z
LAST-MODIFIED:20240712T143139Z
UID:10000143-1721329200-1721334600@cdualtona.de
SUMMARY:Wahlanalyse Bezirks- und Europawahlen
DESCRIPTION:Liebe Mitglieder\,\nkurz vor der Sommerpause laden wie Sie herzlich ein zu einem abendlichen Gespräch zur An!alyse der CDU-Wahlergebnisse bei den Bezirks- und Europawahlen. \nWeiterhin berichten wir gern über die Perspektiven der Zusammenarbeit in der Bezirksversammlung Altona. \nDie Küche des Restaurants ist bis 21 Uhr geöffnet – wer möchte kann also gern im Anschluss dort noch etwas essen. \nWir bitten um eine kurze Anmeldung unter kreisverband@cdu-altona-elbvororte.de und freuen uns auf den Austausch mit Ihnen
URL:https://cdualtona.de/termin/wahlanalyse-bezirks-und-europawahlen/
LOCATION:ELV – Das Elbrestaurant\, Elbuferweg 80\, Hamburg\, 22609
END:VEVENT
BEGIN:VEVENT
DTSTART;TZID=Europe/Berlin:20240723T100000
DTEND;TZID=Europe/Berlin:20240723T120000
DTSTAMP:20260422T124649
CREATED:20240712T163144Z
LAST-MODIFIED:20240712T163548Z
UID:10000146-1721728800-1721736000@cdualtona.de
SUMMARY:Bürgersprechstunde mit Dr. Anke Frieling
DESCRIPTION:Anke Frieling freut sich auf Ihren Besuch!
URL:https://cdualtona.de/termin/buergersprechstunde-mit-dr-anke-frieling/
LOCATION:CDU Altona\, Schmarjestraße 50\, Hamburg\, 22767
ATTACH;FMTTYPE=image/jpeg:https://cdualtona.de/wp-content/uploads/2024/07/ankeBuergersprechstunde.jpg
END:VEVENT
END:VCALENDAR