BEGIN:VCALENDAR
VERSION:2.0
PRODID:-//CDU-Kreisverband Altona/Elbvororte - ECPv6.15.11//NONSGML v1.0//EN
CALSCALE:GREGORIAN
METHOD:PUBLISH
X-WR-CALNAME:CDU-Kreisverband Altona/Elbvororte
X-ORIGINAL-URL:https://cdualtona.de
X-WR-CALDESC:Veranstaltungen für CDU-Kreisverband Altona/Elbvororte
REFRESH-INTERVAL;VALUE=DURATION:PT1H
X-Robots-Tag:noindex
X-PUBLISHED-TTL:PT1H
BEGIN:VTIMEZONE
TZID:Europe/Berlin
BEGIN:DAYLIGHT
TZOFFSETFROM:+0100
TZOFFSETTO:+0200
TZNAME:CEST
DTSTART:20240331T010000
END:DAYLIGHT
BEGIN:STANDARD
TZOFFSETFROM:+0200
TZOFFSETTO:+0100
TZNAME:CET
DTSTART:20241027T010000
END:STANDARD
BEGIN:DAYLIGHT
TZOFFSETFROM:+0100
TZOFFSETTO:+0200
TZNAME:CEST
DTSTART:20250330T010000
END:DAYLIGHT
BEGIN:STANDARD
TZOFFSETFROM:+0200
TZOFFSETTO:+0100
TZNAME:CET
DTSTART:20251026T010000
END:STANDARD
BEGIN:DAYLIGHT
TZOFFSETFROM:+0100
TZOFFSETTO:+0200
TZNAME:CEST
DTSTART:20260329T010000
END:DAYLIGHT
BEGIN:STANDARD
TZOFFSETFROM:+0200
TZOFFSETTO:+0100
TZNAME:CET
DTSTART:20261025T010000
END:STANDARD
END:VTIMEZONE
BEGIN:VEVENT
DTSTART;TZID=Europe/Berlin:20250404T170000
DTEND;TZID=Europe/Berlin:20250404T170000
DTSTAMP:20260423T104148
CREATED:20250306T144547Z
LAST-MODIFIED:20250306T145253Z
UID:10000184-1743786000-1743786000@cdualtona.de
SUMMARY:Frühlingsempfang der Senioren Altona
DESCRIPTION:Wie bereits in den Jahren zuvor\, veranstaltet die Senioren Union Altona ihren schon „ traditionellen Frühlingsempfang“. Im schönen Wintergarten des Restaurant TUNICI wird für unser leibliches Wohl mit einem kalten und warmen Büfett gesorgt. Der Teilnehmerbeitrag beträgt 25\,– Euro. Wenn Sie an dieser Veranstaltung teilnehmen möchten\, so  melden Sie sich bitte bei der Kreisvorsitzenden\, Frau Ute Frank\, an und überweisen den Betrag auf mein Konto bei der HASPA:  Ute Frank\, IBAN:  DE 25 2005 0550 1086 765466. \nIch freue mich mit Ihnen auf einen schönen und fröhlichen Frühlingsempfang. \nUte Frank \n 
URL:https://cdualtona.de/termin/fruehlingsempfang-der-su-altona/
LOCATION:Restaurant Tunici\, Luruper Chaussee 2\, Hamburg\, 22761
END:VEVENT
END:VCALENDAR