BEGIN:VCALENDAR
VERSION:2.0
PRODID:-//CDU-Kreisverband Altona/Elbvororte - ECPv6.15.11//NONSGML v1.0//EN
CALSCALE:GREGORIAN
METHOD:PUBLISH
X-WR-CALNAME:CDU-Kreisverband Altona/Elbvororte
X-ORIGINAL-URL:https://cdualtona.de
X-WR-CALDESC:Veranstaltungen für CDU-Kreisverband Altona/Elbvororte
REFRESH-INTERVAL;VALUE=DURATION:PT1H
X-Robots-Tag:noindex
X-PUBLISHED-TTL:PT1H
BEGIN:VTIMEZONE
TZID:Europe/Berlin
BEGIN:DAYLIGHT
TZOFFSETFROM:+0100
TZOFFSETTO:+0200
TZNAME:CEST
DTSTART:20230326T010000
END:DAYLIGHT
BEGIN:STANDARD
TZOFFSETFROM:+0200
TZOFFSETTO:+0100
TZNAME:CET
DTSTART:20231029T010000
END:STANDARD
BEGIN:DAYLIGHT
TZOFFSETFROM:+0100
TZOFFSETTO:+0200
TZNAME:CEST
DTSTART:20240331T010000
END:DAYLIGHT
BEGIN:STANDARD
TZOFFSETFROM:+0200
TZOFFSETTO:+0100
TZNAME:CET
DTSTART:20241027T010000
END:STANDARD
BEGIN:DAYLIGHT
TZOFFSETFROM:+0100
TZOFFSETTO:+0200
TZNAME:CEST
DTSTART:20250330T010000
END:DAYLIGHT
BEGIN:STANDARD
TZOFFSETFROM:+0200
TZOFFSETTO:+0100
TZNAME:CET
DTSTART:20251026T010000
END:STANDARD
END:VTIMEZONE
BEGIN:VEVENT
DTSTART;TZID=Europe/Berlin:20241129T110000
DTEND;TZID=Europe/Berlin:20241129T130000
DTSTAMP:20260421T133827
CREATED:20241106T094506Z
LAST-MODIFIED:20241106T111418Z
UID:10000163-1732878000-1732885200@cdualtona.de
SUMMARY:Anke Frieling und Anna von Treuenfels-Frowein in Blankenese
DESCRIPTION:Infostand mit Anke Frieling und Anna von Treuenfels-Frowein von 11 bis 13 Uhr am Martini-Block in Blankenese
URL:https://cdualtona.de/termin/18670/
LOCATION:Martiniblock\, Blankeneser Bahnhofstraße 29\, Hamburg\, 22587
ATTACH;FMTTYPE=image/jpeg:https://cdualtona.de/wp-content/uploads/2024/11/anna_anke-scaled.jpg
END:VEVENT
BEGIN:VEVENT
DTSTART;TZID=Europe/Berlin:20241129T160000
DTEND;TZID=Europe/Berlin:20241129T173000
DTSTAMP:20260421T133827
CREATED:20241028T132721Z
LAST-MODIFIED:20241028T133047Z
UID:10000157-1732896000-1732901400@cdualtona.de
SUMMARY:Engagiert für Altona
DESCRIPTION:Infostand mit Andreas Grutzeck am S-Bahnhof Othmarschen
URL:https://cdualtona.de/termin/engagiert-fuer-altona/
ATTACH;FMTTYPE=image/jpeg:https://cdualtona.de/wp-content/uploads/2024/10/Dennis_29November-scaled.jpg
END:VEVENT
END:VCALENDAR