BEGIN:VCALENDAR
VERSION:2.0
PRODID:-//CDU-Kreisverband Altona/Elbvororte - ECPv6.15.11//NONSGML v1.0//EN
CALSCALE:GREGORIAN
METHOD:PUBLISH
X-WR-CALNAME:CDU-Kreisverband Altona/Elbvororte
X-ORIGINAL-URL:https://cdualtona.de
X-WR-CALDESC:Veranstaltungen für CDU-Kreisverband Altona/Elbvororte
REFRESH-INTERVAL;VALUE=DURATION:PT1H
X-Robots-Tag:noindex
X-PUBLISHED-TTL:PT1H
BEGIN:VTIMEZONE
TZID:Europe/Berlin
BEGIN:DAYLIGHT
TZOFFSETFROM:+0100
TZOFFSETTO:+0200
TZNAME:CEST
DTSTART:20230326T010000
END:DAYLIGHT
BEGIN:STANDARD
TZOFFSETFROM:+0200
TZOFFSETTO:+0100
TZNAME:CET
DTSTART:20231029T010000
END:STANDARD
BEGIN:DAYLIGHT
TZOFFSETFROM:+0100
TZOFFSETTO:+0200
TZNAME:CEST
DTSTART:20240331T010000
END:DAYLIGHT
BEGIN:STANDARD
TZOFFSETFROM:+0200
TZOFFSETTO:+0100
TZNAME:CET
DTSTART:20241027T010000
END:STANDARD
BEGIN:DAYLIGHT
TZOFFSETFROM:+0100
TZOFFSETTO:+0200
TZNAME:CEST
DTSTART:20250330T010000
END:DAYLIGHT
BEGIN:STANDARD
TZOFFSETFROM:+0200
TZOFFSETTO:+0100
TZNAME:CET
DTSTART:20251026T010000
END:STANDARD
END:VTIMEZONE
BEGIN:VEVENT
DTSTART;VALUE=DATE:20241116
DTEND;VALUE=DATE:20241117
DTSTAMP:20260421T151513
CREATED:20241031T135116Z
LAST-MODIFIED:20241031T144703Z
UID:10000160-1731715200-1731801599@cdualtona.de
SUMMARY:Tag der CDU
DESCRIPTION:Treffen Sie an unseren zahlreichen Info-Ständen in ganz Hamburg engagierte Menschen\, diskutieren Sie aktuelle Themen und informieren Sie sich aus erster Hand über unsere aktuellen Positionen\, Ziele und Aktionen. Kommen Sie mit uns ins Gespräch\, stellen Sie Ihre Fragen und teilen Sie Ihre Ideen. Ihre Meinung zählt – gestalten Sie die Politik vor Ort aktiv mit! \nIn Altona finden Sie uns: \n\nAltona\, Große Bergstraße (vor Ikea)\, 11 bis 13 Uhr\nBlankenese\, Blankeneser Bahnhofstraße 29\, 11 bis 13 Uhr\nFlottbek/Othmarschen\, Flottbeker Markt\, 10 bis 12:30 Uhr\nLurup\, Grandkuhlenweg (vor Globus)\, 11 bis 13 Uhr\nOsdorf\, Rugenbarg/Ecke Diekweg\, 11 bis 13 Uhr\nRissen\, Wedeler Landstraße 32\, 10 bis 12 Uhr\n\nAuch 6. Dezember und 7. Dezember wird die CDU in ganz Hamburg mit Info-Ständen in den Stadtteilen präsent sein.
URL:https://cdualtona.de/termin/tag-der-cdu-4/
ATTACH;FMTTYPE=image/jpeg:https://cdualtona.de/wp-content/uploads/2024/09/wunschfuerhh.jpg
END:VEVENT
END:VCALENDAR