BEGIN:VCALENDAR
VERSION:2.0
PRODID:-//CDU-Kreisverband Altona/Elbvororte - ECPv6.15.11//NONSGML v1.0//EN
CALSCALE:GREGORIAN
METHOD:PUBLISH
X-WR-CALNAME:CDU-Kreisverband Altona/Elbvororte
X-ORIGINAL-URL:https://cdualtona.de
X-WR-CALDESC:Veranstaltungen für CDU-Kreisverband Altona/Elbvororte
REFRESH-INTERVAL;VALUE=DURATION:PT1H
X-Robots-Tag:noindex
X-PUBLISHED-TTL:PT1H
BEGIN:VTIMEZONE
TZID:Europe/Berlin
BEGIN:DAYLIGHT
TZOFFSETFROM:+0100
TZOFFSETTO:+0200
TZNAME:CEST
DTSTART:20230326T010000
END:DAYLIGHT
BEGIN:STANDARD
TZOFFSETFROM:+0200
TZOFFSETTO:+0100
TZNAME:CET
DTSTART:20231029T010000
END:STANDARD
BEGIN:DAYLIGHT
TZOFFSETFROM:+0100
TZOFFSETTO:+0200
TZNAME:CEST
DTSTART:20240331T010000
END:DAYLIGHT
BEGIN:STANDARD
TZOFFSETFROM:+0200
TZOFFSETTO:+0100
TZNAME:CET
DTSTART:20241027T010000
END:STANDARD
BEGIN:DAYLIGHT
TZOFFSETFROM:+0100
TZOFFSETTO:+0200
TZNAME:CEST
DTSTART:20250330T010000
END:DAYLIGHT
BEGIN:STANDARD
TZOFFSETFROM:+0200
TZOFFSETTO:+0100
TZNAME:CET
DTSTART:20251026T010000
END:STANDARD
END:VTIMEZONE
BEGIN:VEVENT
DTSTART;TZID=Europe/Berlin:20241112T160000
DTEND;TZID=Europe/Berlin:20241112T173000
DTSTAMP:20260421T151503
CREATED:20241028T133235Z
LAST-MODIFIED:20241028T133615Z
UID:10000158-1731427200-1731432600@cdualtona.de
SUMMARY:Engagiert für Altona
DESCRIPTION:Treffen Sie unseren Spitzenkandidaten Dennis Thering und unseren Wahlkreisabgeordneten Andreas Grutzeck in der Fußgängerzone vor dem Mercado (Ottenser Hauptstraße)
URL:https://cdualtona.de/termin/engagiert-fuer-die-altona/
ATTACH;FMTTYPE=image/jpeg:https://cdualtona.de/wp-content/uploads/2024/10/Dennis_12November-scaled.jpg
END:VEVENT
END:VCALENDAR