BEGIN:VCALENDAR
VERSION:2.0
PRODID:-//CDU-Kreisverband Altona/Elbvororte - ECPv6.15.11//NONSGML v1.0//EN
CALSCALE:GREGORIAN
METHOD:PUBLISH
X-WR-CALNAME:CDU-Kreisverband Altona/Elbvororte
X-ORIGINAL-URL:https://cdualtona.de
X-WR-CALDESC:Veranstaltungen für CDU-Kreisverband Altona/Elbvororte
REFRESH-INTERVAL;VALUE=DURATION:PT1H
X-Robots-Tag:noindex
X-PUBLISHED-TTL:PT1H
BEGIN:VTIMEZONE
TZID:Europe/Berlin
BEGIN:DAYLIGHT
TZOFFSETFROM:+0100
TZOFFSETTO:+0200
TZNAME:CEST
DTSTART:20230326T010000
END:DAYLIGHT
BEGIN:STANDARD
TZOFFSETFROM:+0200
TZOFFSETTO:+0100
TZNAME:CET
DTSTART:20231029T010000
END:STANDARD
BEGIN:DAYLIGHT
TZOFFSETFROM:+0100
TZOFFSETTO:+0200
TZNAME:CEST
DTSTART:20240331T010000
END:DAYLIGHT
BEGIN:STANDARD
TZOFFSETFROM:+0200
TZOFFSETTO:+0100
TZNAME:CET
DTSTART:20241027T010000
END:STANDARD
BEGIN:DAYLIGHT
TZOFFSETFROM:+0100
TZOFFSETTO:+0200
TZNAME:CEST
DTSTART:20250330T010000
END:DAYLIGHT
BEGIN:STANDARD
TZOFFSETFROM:+0200
TZOFFSETTO:+0100
TZNAME:CET
DTSTART:20251026T010000
END:STANDARD
END:VTIMEZONE
BEGIN:VEVENT
DTSTART;TZID=Europe/Berlin:20241005T110000
DTEND;TZID=Europe/Berlin:20241005T110000
DTSTAMP:20260421T182957
CREATED:20240909T125055Z
LAST-MODIFIED:20240915T114528Z
UID:10000148-1728126000-1728126000@cdualtona.de
SUMMARY:Ausstellungsbesuch: Water Pressure. Gestaltung für die Zukunft
DESCRIPTION:Liebe Frauen\, \nhiermit laden die Kreisverbände der Frauenunion Altona und Eimsbüttel \nam Samstag\, den 05. Oktober 2024\, um 11:00 Uhr\nzur Ausstellung „Water Pressure. Gestaltung für die Zukunft“ im Museum für Kunst & Gewerbe \nWasser – ob zu viel oder zu wenig\, sauber oder verschmutzt – ist eine der größten Herausforderungen der Menschheit. Schon jetzt sind 40 % der Weltbevölkerung von Wasserknappheit betroffen\, mit dem vom Menschen verursachten Klimawandel wird sich diese Situation weiter verschärfen. „Water Pressure. Gestaltung für die Zukunft“ – eine Ausstellung des MK&G und Jane Withers Studio – nimmt eine globale Perspektive auf die Wasserkrise ein: Gezeigt werden Gestaltungsideen\, die das Potenzial haben\, unsere Zukunft radikal zu ändern. Die rund 75 innovativen Arbeiten aus den Bereichen Design\, Architektur\, Kunst und Wissenschaft gehen vielfach auf Prinzipien der Natur zurück und eröffnen so neue Wege aus der aktuellen Lage. In fünf Kapiteln werden inspirierende Lösungen für weltweite Probleme wie Wasserknappheit\, Überflutung\, Verschmutzung und gestörte Wasserkreisläufe vorgestellt. Die Ausstellung befasst sich auch mit der Hafenstadt Hamburg und ihren gegenwärtigen und zukünftigen Herausforderungen – von Überschwemmungen bis hin zum Wassermangel ein. \nBitte bestätigen Sie Ihre Teilnahme bis zum 29.09.2024 per E-Mail ( gabriele.von-stritzky@cdu-altona.de ). \nBitte beachten Sie dass die KV die Kosten der Führung übernehmen\, aber jede TN den Eintritt selber zahlen muss. Vielen Dank!
URL:https://cdualtona.de/termin/ausstellungsbesuch-water-pressure-gestaltung-fuer-die-zukunft/
LOCATION:Museum für Kunst und Gewerbe\, Steintorplatz\, Hamburg\, 20099
END:VEVENT
END:VCALENDAR