BEGIN:VCALENDAR
VERSION:2.0
PRODID:-//CDU-Kreisverband Altona/Elbvororte - ECPv6.15.11//NONSGML v1.0//EN
CALSCALE:GREGORIAN
METHOD:PUBLISH
X-ORIGINAL-URL:https://cdualtona.de
X-WR-CALDESC:Veranstaltungen für CDU-Kreisverband Altona/Elbvororte
REFRESH-INTERVAL;VALUE=DURATION:PT1H
X-Robots-Tag:noindex
X-PUBLISHED-TTL:PT1H
BEGIN:VTIMEZONE
TZID:Europe/Berlin
BEGIN:DAYLIGHT
TZOFFSETFROM:+0100
TZOFFSETTO:+0200
TZNAME:CEST
DTSTART:20230326T010000
END:DAYLIGHT
BEGIN:STANDARD
TZOFFSETFROM:+0200
TZOFFSETTO:+0100
TZNAME:CET
DTSTART:20231029T010000
END:STANDARD
BEGIN:DAYLIGHT
TZOFFSETFROM:+0100
TZOFFSETTO:+0200
TZNAME:CEST
DTSTART:20240331T010000
END:DAYLIGHT
BEGIN:STANDARD
TZOFFSETFROM:+0200
TZOFFSETTO:+0100
TZNAME:CET
DTSTART:20241027T010000
END:STANDARD
BEGIN:DAYLIGHT
TZOFFSETFROM:+0100
TZOFFSETTO:+0200
TZNAME:CEST
DTSTART:20250330T010000
END:DAYLIGHT
BEGIN:STANDARD
TZOFFSETFROM:+0200
TZOFFSETTO:+0100
TZNAME:CET
DTSTART:20251026T010000
END:STANDARD
END:VTIMEZONE
BEGIN:VEVENT
DTSTART;TZID=Europe/Berlin:20240925T180000
DTEND;TZID=Europe/Berlin:20240925T180000
DTSTAMP:20260423T133456
CREATED:20240910T093529Z
LAST-MODIFIED:20240910T093821Z
UID:10000153-1727287200-1727287200@cdualtona.de
SUMMARY:Dennis Therings Wahlprogrammtour
DESCRIPTION:Liebe Mitglieder des Kreisverbandes Altona\, \nwir haben für die Bürgerschaftswahl 2025 Großes vor. Die personelle Aufstellung der CDU Hamburg für die Wahl finalisieren wir am 7. September 2024 auf einer Landesvertreterversammlung. Parallel laufen die Vorbereitungen für eine starke Kampagne auf Hochtouren. Auch in den Prozess für unser Wahlprogramm wollen wir mit viel Energie direkt nach der Sommerpause einsteigen. Um den Hamburgerinnen und Hamburgern am 2. März 2025 ein überzeugendes Angebot zu machen und möglichst viele Stimmen für die CDU zu gewinnen\, kommt es ganz wesentlich auf unsere politischen Inhalte\nan. Was ist unser Plan für Hamburg? Dazu wollen wir ein Wahlprogramm schmieden\, das ein klares Profil in unseren Schwerpunktthemen hat und gleichzeitig unserem Anspruch als Volkspartei gerecht wird. \nDazu starte ich eine Mitmach-Tour durch alle Hamburger CDU-Kreisverbände und möchte Sie und Euchherzlich einladen\, sich zu beteiligen. Dieses Wahlprogramm soll unser Gemeinschaftswerk werden. Ich freue mich\, wenn Sie dabei sind und sich mit Ihren Ideen einbringen! \nHerzliche Grüße \nDennis Thering \nWir bitten um Anmerlung unter diesem Link
URL:https://cdualtona.de/termin/dennis-therings-wahlprogrammtour/
LOCATION:Alfred Schnittke Akademie International\, Max-Brauer Allee 24\, Hamburg\, 22765
ATTACH;FMTTYPE=image/jpeg:https://cdualtona.de/wp-content/uploads/2024/09/wahlkampftour.jpg
END:VEVENT
END:VCALENDAR