BEGIN:VCALENDAR
VERSION:2.0
PRODID:-//CDU-Kreisverband Altona/Elbvororte - ECPv6.15.11//NONSGML v1.0//EN
CALSCALE:GREGORIAN
METHOD:PUBLISH
X-ORIGINAL-URL:https://cdualtona.de
X-WR-CALDESC:Veranstaltungen für CDU-Kreisverband Altona/Elbvororte
REFRESH-INTERVAL;VALUE=DURATION:PT1H
X-Robots-Tag:noindex
X-PUBLISHED-TTL:PT1H
BEGIN:VTIMEZONE
TZID:Europe/Berlin
BEGIN:DAYLIGHT
TZOFFSETFROM:+0100
TZOFFSETTO:+0200
TZNAME:CEST
DTSTART:20230326T010000
END:DAYLIGHT
BEGIN:STANDARD
TZOFFSETFROM:+0200
TZOFFSETTO:+0100
TZNAME:CET
DTSTART:20231029T010000
END:STANDARD
BEGIN:DAYLIGHT
TZOFFSETFROM:+0100
TZOFFSETTO:+0200
TZNAME:CEST
DTSTART:20240331T010000
END:DAYLIGHT
BEGIN:STANDARD
TZOFFSETFROM:+0200
TZOFFSETTO:+0100
TZNAME:CET
DTSTART:20241027T010000
END:STANDARD
BEGIN:DAYLIGHT
TZOFFSETFROM:+0100
TZOFFSETTO:+0200
TZNAME:CEST
DTSTART:20250330T010000
END:DAYLIGHT
BEGIN:STANDARD
TZOFFSETFROM:+0200
TZOFFSETTO:+0100
TZNAME:CET
DTSTART:20251026T010000
END:STANDARD
END:VTIMEZONE
BEGIN:VEVENT
DTSTART;VALUE=DATE:20240921
DTEND;VALUE=DATE:20240922
DTSTAMP:20260424T102702
CREATED:20240909T141601Z
LAST-MODIFIED:20240913T172754Z
UID:10000151-1726876800-1726963199@cdualtona.de
SUMMARY:Tag der CDU
DESCRIPTION:Treffen Sie an unseren zahlreichen Info-Ständen in ganz Hamburg engagierte Menschen\, diskutieren Sie aktuelle Themen und informieren Sie sich aus erster Hand über unsere aktuellen Positionen\, Ziele und Aktionen. Kommen Sie mit uns ins Gespräch\, stellen Sie Ihre Fragen und teilen Sie Ihre Ideen. Ihre Meinung zählt – gestalten Sie die Politik vor Ort aktiv mit! \nDiesmal steht der Tag der CDU unter dem Motto: „Ihr Wunsch für Hamburg?“  \nDabei wollen wir die Wünsche der Hamburgerinnen und Hamburger für unsere Stadt aufnehmen und sammeln. Wie Sie wissen\, ist Dennis Thering gerade für das Wahlprogramm mit seiner Mitmach-Tour in den Kreisverbänden unterwegs. Wir wollen mit dem Tag der CDU noch mehr Hamburgerinnen und Hamburgern die Möglichkeit geben\, sich mit Vorschlägen für unser Programm zu beteiligen und gleichzeitig für unsere Positionen werben. Dazu sollen die Flyer im Anhang ausgefüllt werden und von den Bürgern in Boxen geworfen werden. \nIn Altona finden Sie uns: \n\nAltona\, Große Bergstraße (vor Ikea)\, 11 bis 13 Uhr\nBlankenese\, Blankeneser Bahnhofstraße 29\, 11 ibs 13 Uhr\nFlottbek/Othmarschen\, Flottbeker Wochenmarkt\, 10 bis 12 Uhr\nLurup\, Grandkuhlenweg (vor Globus)\, 11 bis 13 Uhr\nRissen\, Wedeler Landtraße 36\, 10 bis 12 Uhr
URL:https://cdualtona.de/termin/tag-der-cdu-2/
ATTACH;FMTTYPE=image/jpeg:https://cdualtona.de/wp-content/uploads/2024/09/wunschfuerhh.jpg
END:VEVENT
END:VCALENDAR