BEGIN:VCALENDAR
VERSION:2.0
PRODID:-//CDU-Kreisverband Altona/Elbvororte - ECPv6.15.11//NONSGML v1.0//EN
CALSCALE:GREGORIAN
METHOD:PUBLISH
X-ORIGINAL-URL:https://cdualtona.de
X-WR-CALDESC:Veranstaltungen für CDU-Kreisverband Altona/Elbvororte
REFRESH-INTERVAL;VALUE=DURATION:PT1H
X-Robots-Tag:noindex
X-PUBLISHED-TTL:PT1H
BEGIN:VTIMEZONE
TZID:Europe/Berlin
BEGIN:DAYLIGHT
TZOFFSETFROM:+0100
TZOFFSETTO:+0200
TZNAME:CEST
DTSTART:20230326T010000
END:DAYLIGHT
BEGIN:STANDARD
TZOFFSETFROM:+0200
TZOFFSETTO:+0100
TZNAME:CET
DTSTART:20231029T010000
END:STANDARD
BEGIN:DAYLIGHT
TZOFFSETFROM:+0100
TZOFFSETTO:+0200
TZNAME:CEST
DTSTART:20240331T010000
END:DAYLIGHT
BEGIN:STANDARD
TZOFFSETFROM:+0200
TZOFFSETTO:+0100
TZNAME:CET
DTSTART:20241027T010000
END:STANDARD
BEGIN:DAYLIGHT
TZOFFSETFROM:+0100
TZOFFSETTO:+0200
TZNAME:CEST
DTSTART:20250330T010000
END:DAYLIGHT
BEGIN:STANDARD
TZOFFSETFROM:+0200
TZOFFSETTO:+0100
TZNAME:CET
DTSTART:20251026T010000
END:STANDARD
END:VTIMEZONE
BEGIN:VEVENT
DTSTART;TZID=Europe/Berlin:20240916T190000
DTEND;TZID=Europe/Berlin:20240916T210000
DTSTAMP:20260422T184844
CREATED:20240909T134645Z
LAST-MODIFIED:20240915T113638Z
UID:10000150-1726513200-1726520400@cdualtona.de
SUMMARY:9 Jahre rot-grüne Umwelt- und Klimapolitik: viel Lärm um nichts?
DESCRIPTION:Liebe Mitglieder\, \nnach der hoffentlich erholsamen Sommerpause laden wir Sie herzlich ein zu einem Gespräch mit meinem Bürgerschaftskollegen Sandro Kappe. Er ist Fachsprecher für UmweltpoliLk der CDU-Fraktion und ein Experte für die Umwelt- und Klimapolitik des rotgrünen Senats\, der viele große Pläne hat und bei der Umsetzung häufig weit hinter den erweckten Erwartungen zurückbleibt. \nWir biVen um eine kurze Anmeldung unter kreisverband@cdu-altona-elbvororte.de und freuen uns auf den Austausch mit Ihnen!
URL:https://cdualtona.de/termin/9-jahre-rotgruene-umwelt-und-klimapolitik-viel-laerm-um-nichts/
LOCATION:Gemeindesaal der ev.-luth. Kirchengemeinde St. Petri Altona\, Schmarjestraße 33/Ecke Schillerstraße\, Hamburg\, 22767
END:VEVENT
END:VCALENDAR