BEGIN:VCALENDAR
VERSION:2.0
PRODID:-//CDU-Kreisverband Altona/Elbvororte - ECPv6.15.11//NONSGML v1.0//EN
CALSCALE:GREGORIAN
METHOD:PUBLISH
X-ORIGINAL-URL:https://cdualtona.de
X-WR-CALDESC:Veranstaltungen für CDU-Kreisverband Altona/Elbvororte
REFRESH-INTERVAL;VALUE=DURATION:PT1H
X-Robots-Tag:noindex
X-PUBLISHED-TTL:PT1H
BEGIN:VTIMEZONE
TZID:Europe/Berlin
BEGIN:DAYLIGHT
TZOFFSETFROM:+0100
TZOFFSETTO:+0200
TZNAME:CEST
DTSTART:20230326T010000
END:DAYLIGHT
BEGIN:STANDARD
TZOFFSETFROM:+0200
TZOFFSETTO:+0100
TZNAME:CET
DTSTART:20231029T010000
END:STANDARD
BEGIN:DAYLIGHT
TZOFFSETFROM:+0100
TZOFFSETTO:+0200
TZNAME:CEST
DTSTART:20240331T010000
END:DAYLIGHT
BEGIN:STANDARD
TZOFFSETFROM:+0200
TZOFFSETTO:+0100
TZNAME:CET
DTSTART:20241027T010000
END:STANDARD
BEGIN:DAYLIGHT
TZOFFSETFROM:+0100
TZOFFSETTO:+0200
TZNAME:CEST
DTSTART:20250330T010000
END:DAYLIGHT
BEGIN:STANDARD
TZOFFSETFROM:+0200
TZOFFSETTO:+0100
TZNAME:CET
DTSTART:20251026T010000
END:STANDARD
END:VTIMEZONE
BEGIN:VEVENT
DTSTART;TZID=Europe/Berlin:20240831T100000
DTEND;TZID=Europe/Berlin:20240831T160000
DTSTAMP:20260422T155909
CREATED:20240712T162111Z
LAST-MODIFIED:20240715T093254Z
UID:10000145-1725098400-1725120000@cdualtona.de
SUMMARY:CDU Blankenese auf dem Blankeneser Straßenfest
DESCRIPTION:Wie in jedem Jahr veranstaltet die IG-Blankenese auch diesjährig zum Ende der Hamburger Sommerferien ihr beliebtes Straßenfest.Die Besucherinnen und Besucher können Blankenese von seiner allerschönsten Seite erleben: Lebendig\, voller Musik\, Gespräche und Erlebnisse. Die CDU Blankenese präsentiert sich mit Angeboten für Kinder und Erwachsene.Kommen Sie vorbei\,genießen Sie das Blankeneser Flair und treffen Sie uns und unsere Gäste aus Bürgerschaft\, Bezirksversammlung und benachbarten Ortsverbänden.
URL:https://cdualtona.de/termin/cdu-blankenese-auf-dem-blankeneser-strassenfest/
LOCATION:Blankeneser Bahnhofstraße\, Blankeneser Bahnhofstraße
ATTACH;FMTTYPE=image/jpeg:https://cdualtona.de/wp-content/uploads/2024/07/blankeneserbahnhiofstrasse.jpg
END:VEVENT
END:VCALENDAR