BEGIN:VCALENDAR
VERSION:2.0
PRODID:-//CDU-Kreisverband Altona/Elbvororte - ECPv6.15.11//NONSGML v1.0//EN
CALSCALE:GREGORIAN
METHOD:PUBLISH
X-WR-CALNAME:CDU-Kreisverband Altona/Elbvororte
X-ORIGINAL-URL:https://cdualtona.de
X-WR-CALDESC:Veranstaltungen für CDU-Kreisverband Altona/Elbvororte
REFRESH-INTERVAL;VALUE=DURATION:PT1H
X-Robots-Tag:noindex
X-PUBLISHED-TTL:PT1H
BEGIN:VTIMEZONE
TZID:Europe/Berlin
BEGIN:DAYLIGHT
TZOFFSETFROM:+0100
TZOFFSETTO:+0200
TZNAME:CEST
DTSTART:20230326T010000
END:DAYLIGHT
BEGIN:STANDARD
TZOFFSETFROM:+0200
TZOFFSETTO:+0100
TZNAME:CET
DTSTART:20231029T010000
END:STANDARD
BEGIN:DAYLIGHT
TZOFFSETFROM:+0100
TZOFFSETTO:+0200
TZNAME:CEST
DTSTART:20240331T010000
END:DAYLIGHT
BEGIN:STANDARD
TZOFFSETFROM:+0200
TZOFFSETTO:+0100
TZNAME:CET
DTSTART:20241027T010000
END:STANDARD
BEGIN:DAYLIGHT
TZOFFSETFROM:+0100
TZOFFSETTO:+0200
TZNAME:CEST
DTSTART:20250330T010000
END:DAYLIGHT
BEGIN:STANDARD
TZOFFSETFROM:+0200
TZOFFSETTO:+0100
TZNAME:CET
DTSTART:20251026T010000
END:STANDARD
END:VTIMEZONE
BEGIN:VEVENT
DTSTART;TZID=Europe/Berlin:20240311T190000
DTEND;TZID=Europe/Berlin:20240311T210000
DTSTAMP:20260420T114030
CREATED:20240204T222942Z
LAST-MODIFIED:20240204T224839Z
UID:10000118-1710183600-1710190800@cdualtona.de
SUMMARY:Sicherheitspolitische Reihe: Deutschland und der Indo-Pazifik - Sicherheitspolitische Implikationen und Beziehungen mit einem besonderen Blick auf China\, Taiwan und Japan
DESCRIPTION:Die CDU Altona/Elbvororte freut sich ihren Freunden und Mirgliedern im Rahmen der beliebten sicherheitspolitischen Reihe einen neuen Diskussionsabend zum Thema: \nDeutschland und der Indo-Pazifik: Sicherheitspolitische Implikationen und Beziehungen mit einem besonderen Blick auf China\, Taiwan und Japan \nanzubieten. Die Welt sortiert sich neu\, der indopazifische Raum spielt für unsere sicherheits- und wirtschaftpolitische Lage eine bedeutende Rolle. Mit einem hochkarätigen Expertenteam vom German Insitute for Defencee and Strategic Studies wollen wir den Dingen auf den Grund gehen. \nIn die Thematik führen uns ein:: \n\nProfessor Dr. Sven Gareis: „Krise um Taiwan – Hintergründe\, globale Implikationen und Perspektiven“\nDr. Wolfgang Müller: „Deutschlands ökonomische Abhängigkeit von China – Fakten und Mythen“ \nDr. Tobias Kollakowski: „Deutschlands verteidigungspolitischen Beziehungen zu Japan“\n\nEs moderiert: Kapitän zur See Dr. André PECHER \nWir freuen uns auf einen interessanten Abend mit lebendiger Diskussion. Wie gewohnt empfangen wir Sie im Haus Rissen und reichen Erfrischungen. \nWir bitten um Anmeldung unter: kreisverband@cdu-altona-elbvororte.de \n 
URL:https://cdualtona.de/termin/sicherheitspolitischer-reihe-deutschland-und-der-indo-pazifik-sicherheitspolitische-implikationen-und-beziehungen-mit-einem-besonderen-blick-auf-china-taiwan-und-japan/
LOCATION:Haus Rissen\, Rissener Landstraße 193\, Hamburg\, 22559
ATTACH;FMTTYPE=image/jpeg:https://cdualtona.de/wp-content/uploads/2024/02/Einladung-NovDez3.jpg
END:VEVENT
END:VCALENDAR