BEGIN:VCALENDAR
VERSION:2.0
PRODID:-//CDU-Kreisverband Altona/Elbvororte - ECPv6.15.11//NONSGML v1.0//EN
CALSCALE:GREGORIAN
METHOD:PUBLISH
X-WR-CALNAME:CDU-Kreisverband Altona/Elbvororte
X-ORIGINAL-URL:https://cdualtona.de
X-WR-CALDESC:Veranstaltungen für CDU-Kreisverband Altona/Elbvororte
REFRESH-INTERVAL;VALUE=DURATION:PT1H
X-Robots-Tag:noindex
X-PUBLISHED-TTL:PT1H
BEGIN:VTIMEZONE
TZID:Europe/Berlin
BEGIN:DAYLIGHT
TZOFFSETFROM:+0100
TZOFFSETTO:+0200
TZNAME:CEST
DTSTART:20230326T010000
END:DAYLIGHT
BEGIN:STANDARD
TZOFFSETFROM:+0200
TZOFFSETTO:+0100
TZNAME:CET
DTSTART:20231029T010000
END:STANDARD
BEGIN:DAYLIGHT
TZOFFSETFROM:+0100
TZOFFSETTO:+0200
TZNAME:CEST
DTSTART:20240331T010000
END:DAYLIGHT
BEGIN:STANDARD
TZOFFSETFROM:+0200
TZOFFSETTO:+0100
TZNAME:CET
DTSTART:20241027T010000
END:STANDARD
BEGIN:DAYLIGHT
TZOFFSETFROM:+0100
TZOFFSETTO:+0200
TZNAME:CEST
DTSTART:20250330T010000
END:DAYLIGHT
BEGIN:STANDARD
TZOFFSETFROM:+0200
TZOFFSETTO:+0100
TZNAME:CET
DTSTART:20251026T010000
END:STANDARD
END:VTIMEZONE
BEGIN:VEVENT
DTSTART;TZID=Europe/Berlin:20240213T180000
DTEND;TZID=Europe/Berlin:20240213T210000
DTSTAMP:20260420T132006
CREATED:20240204T201251Z
LAST-MODIFIED:20240204T203403Z
UID:10000117-1707847200-1707858000@cdualtona.de
SUMMARY:Kreismitgliederversammlung I Kreisvorstandswahl
DESCRIPTION:Liebe Mitglieder des CDU Kreisverbandes Altona/Elbvororte\, \nwie alle zwei Jahre wählen wir wieder einen Kreisvorstand. Bitte erscheinen Sie zahlreich\, damit auch unsere innerparteiliche Demokratie lebendig bleibt. Wir freuen uns über pünktliches Erscheinen\, damit wir zügig zur den Wahlen kommen können. Bitte bringen Sie Ihren Personalausweis mit. \nWir danken Ihnen herzlich und freuen uns über Ihre Unterstützung! \nIhr Kreisvorstand der CDU Altona/Elbvororte
URL:https://cdualtona.de/termin/kreismitgliederversammlung-i-kreisvorstandswahl/
LOCATION:Stadtteilschule Luup\, Flurstraße 15\, Hambug\, 22549
ATTACH;FMTTYPE=image/jpeg:https://cdualtona.de/wp-content/uploads/2024/02/Altona8.jpg
END:VEVENT
END:VCALENDAR