BEGIN:VCALENDAR
VERSION:2.0
PRODID:-//CDU-Kreisverband Altona/Elbvororte - ECPv6.15.11//NONSGML v1.0//EN
CALSCALE:GREGORIAN
METHOD:PUBLISH
X-WR-CALNAME:CDU-Kreisverband Altona/Elbvororte
X-ORIGINAL-URL:https://cdualtona.de
X-WR-CALDESC:Veranstaltungen für CDU-Kreisverband Altona/Elbvororte
REFRESH-INTERVAL;VALUE=DURATION:PT1H
X-Robots-Tag:noindex
X-PUBLISHED-TTL:PT1H
BEGIN:VTIMEZONE
TZID:Europe/Berlin
BEGIN:DAYLIGHT
TZOFFSETFROM:+0100
TZOFFSETTO:+0200
TZNAME:CEST
DTSTART:20220327T010000
END:DAYLIGHT
BEGIN:STANDARD
TZOFFSETFROM:+0200
TZOFFSETTO:+0100
TZNAME:CET
DTSTART:20221030T010000
END:STANDARD
BEGIN:DAYLIGHT
TZOFFSETFROM:+0100
TZOFFSETTO:+0200
TZNAME:CEST
DTSTART:20230326T010000
END:DAYLIGHT
BEGIN:STANDARD
TZOFFSETFROM:+0200
TZOFFSETTO:+0100
TZNAME:CET
DTSTART:20231029T010000
END:STANDARD
BEGIN:DAYLIGHT
TZOFFSETFROM:+0100
TZOFFSETTO:+0200
TZNAME:CEST
DTSTART:20240331T010000
END:DAYLIGHT
BEGIN:STANDARD
TZOFFSETFROM:+0200
TZOFFSETTO:+0100
TZNAME:CET
DTSTART:20241027T010000
END:STANDARD
END:VTIMEZONE
BEGIN:VEVENT
DTSTART;TZID=Europe/Berlin:20231215T123000
DTEND;TZID=Europe/Berlin:20231215T150000
DTSTAMP:20260422T155458
CREATED:20231203T122825Z
LAST-MODIFIED:20231203T123015Z
UID:10000113-1702643400-1702652400@cdualtona.de
SUMMARY:Glühweinstand der CDU-Fraktion in Altona
DESCRIPTION:Besuchen Sie uns und sprechen Sie mit uns über Ihren politischen Wunschzettel. Die Abgeordneten der Bezirksfraktion stehen für Sie zum Gespräch bereit.
URL:https://cdualtona.de/termin/gluehweinstand-der-cdu-fraktion-in-altona/
LOCATION:Neue Große Bergstraße\, Neue Große Bergstraße 20\, Hamburg\, 22767
ATTACH;FMTTYPE=image/jpeg:https://cdualtona.de/wp-content/uploads/2023/12/Einladung-NovDez1.jpg
END:VEVENT
BEGIN:VEVENT
DTSTART;TZID=Europe/Berlin:20231215T160000
DTEND;TZID=Europe/Berlin:20231215T180000
DTSTAMP:20260422T155458
CREATED:20231203T123349Z
LAST-MODIFIED:20231203T123349Z
UID:10000114-1702656000-1702663200@cdualtona.de
SUMMARY:Glühweinstand der CDU-Fraktion in Blankenese
DESCRIPTION:Besuchen Sie uns am Martiniblock\, und sprechen Sie mit uns bei warmen Getränken über Ihren politischen Wunschzettel. Die Abgeordneten der Bezirksfraktion stehen für Sie zum Gespräch bereit. Außerdem findet zeitgleich der Blankeneser lebendige Adventskalender der IG Blankenese statt.
URL:https://cdualtona.de/termin/gluehweinstand-der-cdu-fraktion-in-blankenese/
LOCATION:Martiniblock\, Blankeneser Bahnhofstraße 29\, Hamburg\, 22587
ATTACH;FMTTYPE=image/jpeg:https://cdualtona.de/wp-content/uploads/2023/12/Einladung-NovDez1.jpg
END:VEVENT
END:VCALENDAR