BEGIN:VCALENDAR
VERSION:2.0
PRODID:-//CDU-Kreisverband Altona/Elbvororte - ECPv6.15.11//NONSGML v1.0//EN
CALSCALE:GREGORIAN
METHOD:PUBLISH
X-WR-CALNAME:CDU-Kreisverband Altona/Elbvororte
X-ORIGINAL-URL:https://cdualtona.de
X-WR-CALDESC:Veranstaltungen für CDU-Kreisverband Altona/Elbvororte
REFRESH-INTERVAL;VALUE=DURATION:PT1H
X-Robots-Tag:noindex
X-PUBLISHED-TTL:PT1H
BEGIN:VTIMEZONE
TZID:Europe/Berlin
BEGIN:DAYLIGHT
TZOFFSETFROM:+0100
TZOFFSETTO:+0200
TZNAME:CEST
DTSTART:20220327T010000
END:DAYLIGHT
BEGIN:STANDARD
TZOFFSETFROM:+0200
TZOFFSETTO:+0100
TZNAME:CET
DTSTART:20221030T010000
END:STANDARD
BEGIN:DAYLIGHT
TZOFFSETFROM:+0100
TZOFFSETTO:+0200
TZNAME:CEST
DTSTART:20230326T010000
END:DAYLIGHT
BEGIN:STANDARD
TZOFFSETFROM:+0200
TZOFFSETTO:+0100
TZNAME:CET
DTSTART:20231029T010000
END:STANDARD
BEGIN:DAYLIGHT
TZOFFSETFROM:+0100
TZOFFSETTO:+0200
TZNAME:CEST
DTSTART:20240331T010000
END:DAYLIGHT
BEGIN:STANDARD
TZOFFSETFROM:+0200
TZOFFSETTO:+0100
TZNAME:CET
DTSTART:20241027T010000
END:STANDARD
END:VTIMEZONE
BEGIN:VEVENT
DTSTART;TZID=Europe/Berlin:20231202T140000
DTEND;TZID=Europe/Berlin:20231202T163000
DTSTAMP:20260422T155809
CREATED:20231101T211040Z
LAST-MODIFIED:20231102T081434Z
UID:10000109-1701525600-1701534600@cdualtona.de
SUMMARY:Der einzige Rote\, ...
DESCRIPTION:auf den man sich verlassen kann.\nNikolausstand mit Anke Frieling und Sven Hielscher. Kommen Sie und schreiben Sie Ihren politischen Wunschzettel.
URL:https://cdualtona.de/termin/es-gibt-nur-einen-roten-auf-den-verlass-ist/
LOCATION:Waitzstraße\, Waitzstraße 2\, Hamburg\, 22609
ATTACH;FMTTYPE=image/jpeg:https://cdualtona.de/wp-content/uploads/2023/11/Anke-Frieling3.jpg
END:VEVENT
END:VCALENDAR